BEGIN:VCALENDAR
VERSION:2.0
PRODID:-//CDU Maintal - ECPv6.15.16//NONSGML v1.0//EN
CALSCALE:GREGORIAN
METHOD:PUBLISH
X-ORIGINAL-URL:https://cdu-maintal.de
X-WR-CALDESC:Veranstaltungen für CDU Maintal
REFRESH-INTERVAL;VALUE=DURATION:PT1H
X-Robots-Tag:noindex
X-PUBLISHED-TTL:PT1H
BEGIN:VTIMEZONE
TZID:Europe/Berlin
BEGIN:DAYLIGHT
TZOFFSETFROM:+0100
TZOFFSETTO:+0200
TZNAME:CEST
DTSTART:20230326T010000
END:DAYLIGHT
BEGIN:STANDARD
TZOFFSETFROM:+0200
TZOFFSETTO:+0100
TZNAME:CET
DTSTART:20231029T010000
END:STANDARD
BEGIN:DAYLIGHT
TZOFFSETFROM:+0100
TZOFFSETTO:+0200
TZNAME:CEST
DTSTART:20240331T010000
END:DAYLIGHT
BEGIN:STANDARD
TZOFFSETFROM:+0200
TZOFFSETTO:+0100
TZNAME:CET
DTSTART:20241027T010000
END:STANDARD
BEGIN:DAYLIGHT
TZOFFSETFROM:+0100
TZOFFSETTO:+0200
TZNAME:CEST
DTSTART:20250330T010000
END:DAYLIGHT
BEGIN:STANDARD
TZOFFSETFROM:+0200
TZOFFSETTO:+0100
TZNAME:CET
DTSTART:20251026T010000
END:STANDARD
END:VTIMEZONE
BEGIN:VEVENT
DTSTART;TZID=Europe/Berlin:20240215T184000
DTEND;TZID=Europe/Berlin:20240215T230000
DTSTAMP:20260421T205405
CREATED:20240218T123259Z
LAST-MODIFIED:20240308T091428Z
UID:74018-1708022400-1708038000@cdu-maintal.de
SUMMARY:CDU-Fraktion
DESCRIPTION:Der Inhalt ist geschützt.
URL:https://cdu-maintal.de/veranstaltung/cdu-fraktion-8/
LOCATION:Bürgerhaus Hochstadt\, Ringstraße 21\, Maintal\, Hessen\, 63477\, Deutschland
END:VEVENT
BEGIN:VEVENT
DTSTART;TZID=Europe/Berlin:20240222T184000
DTEND;TZID=Europe/Berlin:20240222T230000
DTSTAMP:20260421T205405
CREATED:20240218T123540Z
LAST-MODIFIED:20240308T091416Z
UID:74022-1708627200-1708642800@cdu-maintal.de
SUMMARY:CDU-Fraktion
DESCRIPTION:Der Inhalt ist geschützt.
URL:https://cdu-maintal.de/veranstaltung/cdu-fraktion-9/
LOCATION:Bürgerhaus Hochstadt\, Ringstraße 21\, Maintal\, Hessen\, 63477\, Deutschland
END:VEVENT
BEGIN:VEVENT
DTSTART;TZID=Europe/Berlin:20240226T180000
DTEND;TZID=Europe/Berlin:20240226T220000
DTSTAMP:20260421T205405
CREATED:20240218T130558Z
LAST-MODIFIED:20240308T091408Z
UID:74025-1708970400-1708984800@cdu-maintal.de
SUMMARY:Stadtverordneten- versammlung der Stadt Maintal
DESCRIPTION:25. öffentlichen Sitzung der\nStadtverordnetenversammlung der Stadt Maintal \nam Montag\, dem 26. Februar 2024\, um 18:00 Uhr\,\nin das Bürgerhaus des Stadtteiles Bischofsheim\,\nDörnigheimer Weg 21\, 63477 Maintal
URL:https://cdu-maintal.de/veranstaltung/stadtverordnetenversammlung-der-stadt-maintal/
LOCATION:Bürgerhaus Bischofsheim\, Dörnigheimer Weg 21\, Maintal\, Hessen\, 63477\, Deutschland
END:VEVENT
END:VCALENDAR